Workbook

Sheet Hovedskema
A1: Hovedskema
A3: Firma
A4: Bygning | C4: Dato | E4: Initialer | H4: Udfyldes
H5: Fortrykt
A6: Bygningsdata | H6: Beregnet
A7: Enfamilieshus | B7: x | H7: Overført
A8: Anden bolig
A9: Anden bygning
A11: Rum-temperatur | B11: 20 | C11: Opvarmet etageareal | E11: Opvarmet bebygget areal | G11: Antal etager | H11: 1 | I11: Normal brugstid | J11: 168
A13: Ventilation | C13: Ventilation i brugstiden | E13: Ventilation ubenyttet | G13: Beregnings mæssig ventilation | I13: Ventilations-tab
C14: 0.3 | D14: l/s pr. m2 | E14: ----- | G14: =0.001*D11*C14 -> 0 | H14: m^3/s | I14: =1210*G14 -> 0
A16: Varmetab
A17: Ydervægge, tage og gulv mod det fri | D17: (hjælpeskema 1) | F17: ='Hjælpeskema 1 & 2'!K19 -> 0
A18: Vinduer og døre mod det fri | D18: (hjælpeskema 2) | F18: ='Hjælpeskema 1 & 2'!K40 -> 0
A19: Ventilation | D19: (se ovenfor) | F19: =I14 -> 0
E20: I alt | F20: =SUM(F17:F19) -> 0
A22: Tidskonstant
C23: Varme-kapacitet i) | E23: Tidskonstant | G23: a
F24: timer | G24: =1+E24/16 -> 1
A26: Internt varmetilskud
A27: PERSONER | C27: Tilskud i brugstid | E27: Tilskud middel
D28: w/m^2 | E28: =D11*C28 -> 0
A30: Internt varmetilskud
A31: APPARATUR | C31: Tilskud i brugstid | E31: Tilskud middel
D32: w/m^2 | E32: =D11*C32 -> 0
A34: Varmebehov | B34: Antal dage i måneden | C34: Temperatur differense | D34: Varmetab | E34: Solindfald | F34: Internt tilskud | G34: Samlet tilskud | H34: Relativt tilskud | I34: Udnyttelses-faktor | J34: Varme-behov
B35: dage | C35: K0 | D35: MJ/mån | E35: MJ/mån | F35: MJ/mån | G35: MJ/mån | H35: ingen enhed | I35: ingen enhed | J35: MJ/mån
A36: September | B36: 30 | C36: 7.1 | D36: =0.0864*F20*B36*C36 -> 0 | E36: =Solindfald!H26 -> 0 | F36: =($E$28+$E$32)*B36*0.0864 -> 0 | G36: =SUM(E36:F36) -> 0 | H36: =G36/D36 -> #DIV/0! | I36: =(1-H36^$G$24)/(1-H36^($G$24+1)) -> #DIV/0! | J36: =D36-G36*I36 -> #DIV/0!
A37: Oktober | B37: 31 | C37: 11.1 | D37: =0.0864*F20*B37*C37 -> 0 | E37: =Solindfald!I26 -> 0 | F37: =($E$28+$E$32)*B37*0.0864 -> 0 | G37: =SUM(E37:F37) -> 0 | H37: =G37/D37 -> #DIV/0! | I37: =(1-H37^$G$24)/(1-H37^($G$24+1)) -> #DIV/0! | J37: =D37-G37*I37 -> #DIV/0!
A38: November | B38: 30 | C38: 15.5 | D38: =0.0864*F20*B38*C38 -> 0 | E38: =Solindfald!J26 -> 0 | F38: =($E$28+$E$32)*B38*0.0864 -> 0 | G38: =SUM(E38:F38) -> 0 | H38: =G38/D38 -> #DIV/0! | I38: =(1-H38^$G$24)/(1-H38^($G$24+1)) -> #DIV/0! | J38: =D38-G38*I38 -> #DIV/0!
A39: December | B39: 31 | C39: 19.2 | D39: =0.0864*F20*B39*C39 -> 0 | E39: =Solindfald!K26 -> 0 | F39: =($E$28+$E$32)*B39*0.0864 -> 0 | G39: =SUM(E39:F39) -> 0 | H39: =G39/D39 -> #DIV/0! | I39: =(1-H39^$G$24)/(1-H39^($G$24+1)) -> #DIV/0! | J39: =D39-G39*I39 -> #DIV/0!
A40: Januar | B40: 31 | C40: 21 | D40: =0.0864*B40*C40*F20 -> 0 | E40: =Solindfald!L26 -> 0 | F40: =($E$28+$E$32)*B40*0.0864 -> 0 | G40: =SUM(E40:F40) -> 0 | H40: =G40/D40 -> #DIV/0! | I40: =(1-H40^$G$24)/(1-H40^($G$24+1)) -> #DIV/0! | J40: =D40-G40*I40 -> #DIV/0!
A41: Februar | B41: 28 | C41: 20.5 | D41: =0.0864*F20*B41*C41 -> 0 | E41: =Solindfald!M26 -> 0 | F41: =($E$28+$E$32)*B41*0.0864 -> 0 | G41: =SUM(E41:F41) -> 0 | H41: =G41/D41 -> #DIV/0! | I41: =(1-H41^$G$24)/(1-H41^($G$24+1)) -> #DIV/0! | J41: =D41-G41*I41 -> #DIV/0!
A42: Marts | B42: 31 | C42: 18.1 | D42: =0.0864*F20*B42*C42 -> 0 | E42: =Solindfald!N26 -> 0 | F42: =($E$28+$E$32)*B42*0.0864 -> 0 | G42: =SUM(E42:F42) -> 0 | H42: =G42/D42 -> #DIV/0! | I42: =(1-H42^$G$24)/(1-H42^($G$24+1)) -> #DIV/0! | J42: =D42-G42*I42 -> #DIV/0!
A43: April | B43: 30 | C43: 14.1 | D43: =0.0864*F20*B43*C43 -> 0 | E43: =Solindfald!O26 -> 0 | F43: =($E$28+$E$32)*B43*0.0864 -> 0 | G43: =SUM(E43:F43) -> 0 | H43: =G43/D43 -> #DIV/0! | I43: =(1-H43^$G$24)/(1-H43^($G$24+1)) -> #DIV/0! | J43: =D43-G43*I43 -> #DIV/0!
A44: Maj | B44: 31 | C44: 9.1 | D44: =0.0864*F20*B44*C44 -> 0 | E44: =Solindfald!P26 -> 0 | F44: =($E$28+$E$32)*B44*0.0864 -> 0 | G44: =SUM(E44:F44) -> 0 | H44: =G44/D44 -> #DIV/0! | I44: =(1-H44^$G$24)/(1-H44^($G$24+1)) -> #DIV/0! | J44: =D44-G44*I44 -> #DIV/0!
A45: Energi tab fra transmisionstab og ventilationstab samt energitilskud fra sol og personer m.m. | I45: Mj/år | J45: =SUM(J36:J44) -> #DIV/0! | K45: KWh/år | L45: =J45/3.6 -> #DIV/0!
A46: Varmt brugsvand og tilskud fra alternativ energi
A47: Varmt brugsvand | C47: =22*D11-600 -> -600 | D47: kWh | I47: Mj/år | J47: =L47*3.6 -> 0 | K47: KWh/år | L47: 0
A48: Solfanger | I48: Mj/år | J48: =L48*3.6 -> 0 | K48: KWh/år | L48: ='Alternativ energi'!C10 -> 0
...

Sheet Hjælpeskema 1 & 2
A1: Hjælpeskema 1
A2: Ydervægge, tage, gulve
A3: Bygningsdel | D3: Transmissions-areal | I3: U-værdi | J3: b | K3: Transmissions-tab
A4: Ydervægge | D4: =F52 -> 0 | J4: 0 | K4: =D4*I4 -> 0
A5: Tag og loft | D5: =F48 -> 0 | J5: 0 | K5: =D5*I5 -> 0
A6: Terrændæk med gulvvarme | D6: =F56 -> 0 | J6: 0 | K6: =D6*I6 -> 0
A7: Terrændæk I øvrigt | D7: =F57 -> 0 | J7: 0.3 | K7: =D7*I7*(1-J7) -> 0
J9: I alt | K9: =SUM(K4:K8) -> 0
A11: Fundamenter og samlinger omkring døre og vinduer
A12: Bygningsdel | D12: Transmissions-areal | I12: Linjetab | J12: b | K12: Transmissions-tab
A13: Ydervægsfundamenter ved bad | D13: =F58 -> 0 | J13: -0.3 | K13: =D13*I13*(1-J13) -> 0
A14: Ydervægs fundamenter i øvrigt | D14: =F59 -> 0 | J14: 0 | K14: =D14*I14 -> 0
A15: Samlinger mellem døre og vinduer | D15: =H40 -> 0 | J15: 0 | K15: =D15*I15 -> 0
J17: I alt | K17: =SUM(K13:K16) -> 0
J19: Totalt | K19: =K17+K9 -> 0
A21: Hjælpeskema 2, vinduer og yderdøre
A22: nr | B22: Type | C22: Ret | D22: Hældning | E22: antal | F22: bredde | G22: højde | H22: Omkreds | I22: AT | J22: U-værdi | K22: Transmissions-tab
A23: 1 | H23: =IF(E23>0,E23*(2*F23+2*G23)," ") | I23: =IF(E23>0,E23*F23*G23," ") | K23: =IF(E23>0,I23*J23," ")
A24: 2 | H24: =IF(E24>0,E24*(2*F24+2*G24)," ") | I24: =IF(E24>0,E24*F24*G24," ") | K24: =IF(E24>0,I24*J24," ")
A25: 3 | H25: =IF(E25>0,E25*(2*F25+2*G25)," ") | I25: =IF(E25>0,E25*F25*G25," ") | K25: =IF(E25>0,I25*J25," ")
A26: 4 | H26: =IF(E26>0,E26*(2*F26+2*G26)," ") | I26: =IF(E26>0,E26*F26*G26," ") | K26: =IF(E26>0,I26*J26," ")
A27: 5 | H27: =IF(E27>0,E27*(2*F27+2*G27)," ") | I27: =IF(E27>0,E27*F27*G27," ") | K27: =IF(E27>0,I27*J27," ")
A28: 6 | H28: =IF(E28>0,E28*(2*F28+2*G28)," ") | I28: =IF(E28>0,E28*F28*G28," ") | K28: =IF(E28>0,I28*J28," ")
A29: 7 | H29: =IF(E29>0,E29*(2*F29+2*G29)," ") | I29: =IF(E29>0,E29*F29*G29," ") | K29: =IF(E29>0,I29*J29," ")
A30: 8 | H30: =IF(E30>0,E30*(2*F30+2*G30)," ") | I30: =IF(E30>0,E30*F30*G30," ") | K30: =IF(E30>0,I30*J30," ")
A31: 9 | H31: =IF(E31>0,E31*(2*F31+2*G31)," ") | I31: =IF(E31>0,E31*F31*G31," ") | K31: =IF(E31>0,I31*J31," ")
A32: 10 | H32: =IF(E32>0,E32*(2*F32+2*G32)," ") | I32: =IF(E32>0,E32*F32*G32," ") | K32: =IF(E32>0,I32*J32," ")
A33: 11 | H33: =IF(E33>0,E33*(2*F33+2*G33)," ") | I33: =IF(E33>0,E33*F33*G33," ") | K33: =IF(E33>0,I33*J33," ")
A34: 12 | H34: =IF(E34>0,E34*(2*F34+2*G34)," ") | I34: =IF(E34>0,E34*F34*G34," ") | K34: =IF(E34>0,I34*J34," ")
... A36: 14 | H36: =IF(E36>0,E36*(2*F36+2*G36)," ") | I36: =IF(E36>0,E36*F36*G36," ") | K36: =IF(E36>0,I36*J36," ")
A37: 15 | H37: =IF(E37>0,E37*(2*F37+2*G37)," ") | I37: =IF(E37>0,E37*F37*G37," ") | J37: =IF(E37>0,#REF!," ") | K37: =IF(E37>0,I37*J37," ")
A38: 16 | H38: =IF(E38>0,E38*(2*F38+2*G38)," ") | I38: =IF(E38>0,E38*F38*G38," ") | J38: =IF(E38>0,#REF!," ") | K38: =IF(E38>0,I38*J38," ")
A39: 16 | H39: =IF(E39>0,E39*(2*F39+2*G39)," ") | I39: =IF(E39>0,E39*F39*G39," ") | J39: =IF(E39>0,#REF!," ") | K39: =IF(E39>0,I39*J39," ")
E40: =SUM(E23:E39) -> 0 | H40: =SUM(H23:H39) -> 0 | I40: =SUM(I23:I39) -> 0 | J40: i alt | K40: =SUM(K23:K39) -> 0
A43: Arealer og længder til beregning af samlet varmetab
A45: Mur tykkelse | G45: (m) | I45: Udfyldes
A46: Etagehøjde | G46: (m) | I46: Fortrykt
I47: Beregnet
A48: Loft | F48: =Hovedskema!D11 -> 0 | G48: (m2) | I48: Overført
A49: Terrændæk | F49: =Hovedskema!D11 -> 0 | G49: (m2)
...

Sheet Soltimer
A1: Solindfald gennem referencerude i MJ/m² pr. måned
A3: 90 grader | B3: Sep | C3: Okt | D3: Nov | E3: dec | F3: jan | G3: Feb | H3: Mar | I3: Apr | J3: maj
A4: N | B4: 75 | C4: 40 | D4: 20 | E4: 10 | F4: 15 | G4: 30 | H4: 60 | I4: 90 | J4: 135
A5: NØ / NV | B5: 95 | C5: 45 | D5: 20 | E5: 10 | F5: 15 | G5: 30 | H5: 70 | I5: 125 | J5: 185
A6: Ø / V | B6: 155 | C6: 85 | D6: 30 | E6: 20 | F6: 30 | G6: 60 | H6: 125 | I6: 195 | J6: 260
A7: SØ / SV | B7: 220 | C7: 145 | D7: 80 | E7: 60 | F7: 70 | G7: 110 | H7: 195 | I7: 240 | J7: 275
A8: S | B8: 245 | C8: 185 | D8: 110 | E8: 90 | F8: 105 | G8: 145 | H8: 225 | I8: 235 | J8: 250
A10: 45 grader | B10: Sep | C10: Okt | D10: Nov | E10: dec | F10: jan | G10: Feb | H10: Mar | I10: Apr | J10: maj
A11: N | B11: 100 | C11: 55 | D11: 25 | E11: 15 | F11: 20 | G11: 35 | H11: 75 | I11: 120 | J11: 200
A12: NØ / NV | B12: 135 | C12: 60 | D12: 25 | E12: 15 | F12: 20 | G12: 40 | H12: 95 | I12: 180 | J12: 275
A13: Ø / V | B13: 210 | C13: 110 | D13: 40 | E13: 25 | F13: 30 | G13: 70 | H13: 165 | I13: 265 | J13: 365
A14: SØ / SV | B14: 275 | C14: 165 | D14: 80 | E14: 60 | F14: 70 | G14: 80 | H14: 235 | I14: 320 | J14: 410
A15: S | B15: 300 | C15: 195 | D15: 100 | E15: 75 | F15: 90 | G15: 145 | H15: 260 | I15: 340 | J15: 420
A17: Vandret | B17: 215 | C17: 105 | D17: 35 | E17: 20 | F17: 30 | G17: 65 | H17: 165 | I17: 275 | J17: 395
A22: Solskins timer pr. måned og i forhold til verdenshjørner
A23: Byg-del | B23: Sep | C23: Okt | D23: Nov | E23: Dec | F23: Jan | G23: Feb | H23: Mar | I23: Apr | J23: Maj | K23: Retning | L23: Hældning
A24: 1 | K24: ='Hjælpeskema 1 & 2'!C23 -> 0 | L24: ='Hjælpeskema 1 & 2'!D23 -> 0
A25: 2 | K25: ='Hjælpeskema 1 & 2'!C24 -> 0 | L25: ='Hjælpeskema 1 & 2'!D24 -> 0
A26: 3 | K26: ='Hjælpeskema 1 & 2'!C25 -> 0 | L26: ='Hjælpeskema 1 & 2'!D25 -> 0
A27: 4 | K27: ='Hjælpeskema 1 & 2'!C26 -> 0 | L27: ='Hjælpeskema 1 & 2'!D26 -> 0
A28: 5 | K28: ='Hjælpeskema 1 & 2'!C27 -> 0 | L28: ='Hjælpeskema 1 & 2'!D27 -> 0
A29: 6 | K29: ='Hjælpeskema 1 & 2'!C28 -> 0 | L29: ='Hjælpeskema 1 & 2'!D28 -> 0
A30: 7 | K30: ='Hjælpeskema 1 & 2'!C29 -> 0 | L30: ='Hjælpeskema 1 & 2'!D29 -> 0
A31: 8 | K31: ='Hjælpeskema 1 & 2'!C30 -> 0 | L31: ='Hjælpeskema 1 & 2'!D30 -> 0
A32: 9 | K32: ='Hjælpeskema 1 & 2'!C31 -> 0 | L32: ='Hjælpeskema 1 & 2'!D31 -> 0
A33: 10 | K33: ='Hjælpeskema 1 & 2'!C32 -> 0 | L33: ='Hjælpeskema 1 & 2'!D32 -> 0
A34: 11 | K34: ='Hjælpeskema 1 & 2'!C33 -> 0 | L34: ='Hjælpeskema 1 & 2'!D33 -> 0
A35: 12 | K35: ='Hjælpeskema 1 & 2'!C34 -> 0 | L35: ='Hjælpeskema 1 & 2'!D34 -> 0
... A39: 16 | K39: ='Hjælpeskema 1 & 2'!C38 -> 0 | L39: ='Hjælpeskema 1 & 2'!D38 -> 0

Sheet Solindfald
B6: Reduktionsfaktor
A7: Ret. | B7: nr. | C7: Areal af | D7: Skygge | E7: Areal | F7: Glas | G7: Sum F
C8: bygningsdel | D8: faktor j) | E8: faktor k) | F8: faktor l)
C9: AT | D9: Fs | E9: Fa | F9: Fg | G9: F | H9: Sep | I9: Okt | J9: Nov | K9: Dec | L9: Jan | M9: Feb | N9: Mar | O9: Apr | P9: Maj | Q9: I alt
A10: =Soltimer!K24 -> 0 | B10: 1 | C10: ='Hjælpeskema 1 & 2'!I23 | G10: =D10*E10*F10 -> 0 | H10: =IF('Hjælpeskema 1 & 2'!E23>0,C10*G10*Soltimer!B24," ") | I10: =IF('Hjælpeskema 1 & 2'!E23>0,C10*G10*Soltimer!C24," ") | J10: =IF('Hjælpeskema 1 & 2'!E23>0,C10*G10*Soltimer!D24," ") | K10: =IF('Hjælpeskema 1 & 2'!E23>0,C10*G10*Soltimer!E24," ") | L10: =IF('Hjælpeskema 1 & 2'!E23>0,C10*G10*Soltimer!F24," ") | M10: =IF('Hjælpeskema 1 & 2'!E23>0,C10*G10*Soltimer!G24," ") | N10: =IF('Hjælpeskema 1 & 2'!E23>0,C10*G10*Soltimer!H24," ") | O10: =IF('Hjælpeskema 1 & 2'!E23>0,C10*G10*Soltimer!I24," ") | P10: =IF('Hjælpeskema 1 & 2'!E24>0,C10*G10*Soltimer!J24," ") | Q10: =SUM(H10:P10) -> 0
A11: =Soltimer!K25 -> 0 | B11: 2 | C11: ='Hjælpeskema 1 & 2'!I24 | G11: =D11*E11*F11 -> 0 | H11: =IF('Hjælpeskema 1 & 2'!E24>0,C11*G11*Soltimer!B25," ") | I11: =IF('Hjælpeskema 1 & 2'!E24>0,C11*G11*Soltimer!C25," ") | J11: =IF('Hjælpeskema 1 & 2'!E24>0,C11*G11*Soltimer!D25," ") | K11: =IF('Hjælpeskema 1 & 2'!E24>0,C11*G11*Soltimer!E25," ") | L11: =IF('Hjælpeskema 1 & 2'!E24>0,C11*G11*Soltimer!F25," ") | M11: =IF('Hjælpeskema 1 & 2'!E24>0,C11*G11*Soltimer!G25," ") | N11: =IF('Hjælpeskema 1 & 2'!E24>0,C11*G11*Soltimer!H25," ") | O11: =IF('Hjælpeskema 1 & 2'!E24>0,C11*G11*Soltimer!I25," ") | P11: =IF('Hjælpeskema 1 & 2'!E25>0,C11*G11*Soltimer!J25," ") | Q11: =SUM(H11:P11) -> 0
A12: =Soltimer!K26 -> 0 | B12: 3 | C12: ='Hjælpeskema 1 & 2'!I25 | G12: =D12*E12*F12 -> 0 | H12: =IF('Hjælpeskema 1 & 2'!E25>0,C12*G12*Soltimer!B26," ") | I12: =IF('Hjælpeskema 1 & 2'!E25>0,C12*G12*Soltimer!C26," ") | J12: =IF('Hjælpeskema 1 & 2'!E25>0,C12*G12*Soltimer!D26," ") | K12: =IF('Hjælpeskema 1 & 2'!E25>0,C12*G12*Soltimer!E26," ") | L12: =IF('Hjælpeskema 1 & 2'!E25>0,C12*G12*Soltimer!F26," ") | M12: =IF('Hjælpeskema 1 & 2'!E25>0,C12*G12*Soltimer!G26," ") | N12: =IF('Hjælpeskema 1 & 2'!E25>0,C12*G12*Soltimer!H26," ") | O12: =IF('Hjælpeskema 1 & 2'!E25>0,C12*G12*Soltimer!I26," ") | P12: =IF('Hjælpeskema 1 & 2'!E26>0,C12*G12*Soltimer!J26," ") | Q12: =SUM(H12:P12) -> 0
A13: =Soltimer!K27 -> 0 | B13: 4 | C13: ='Hjælpeskema 1 & 2'!I26 | G13: =D13*E13*F13 -> 0 | H13: =IF('Hjælpeskema 1 & 2'!E26>0,C13*G13*Soltimer!B27," ") | I13: =IF('Hjælpeskema 1 & 2'!E26>0,C13*G13*Soltimer!C27," ") | J13: =IF('Hjælpeskema 1 & 2'!E26>0,C13*G13*Soltimer!D27," ") | K13: =IF('Hjælpeskema 1 & 2'!E26>0,C13*G13*Soltimer!E27," ") | L13: =IF('Hjælpeskema 1 & 2'!E26>0,C13*G13*Soltimer!F27," ") | M13: =IF('Hjælpeskema 1 & 2'!E26>0,C13*G13*Soltimer!G27," ") | N13: =IF('Hjælpeskema 1 & 2'!E26>0,C13*G13*Soltimer!H27," ") | O13: =IF('Hjælpeskema 1 & 2'!E26>0,C13*G13*Soltimer!I27," ") | P13: =IF('Hjælpeskema 1 & 2'!E27>0,C13*G13*Soltimer!J27," ") | Q13: =SUM(H13:P13) -> 0
A14: =Soltimer!K28 -> 0 | B14: 5 | C14: ='Hjælpeskema 1 & 2'!I27 | G14: =D14*E14*F14 -> 0 | H14: =IF('Hjælpeskema 1 & 2'!E27>0,C14*G14*Soltimer!B28," ") | I14: =IF('Hjælpeskema 1 & 2'!E27>0,C14*G14*Soltimer!C28," ") | J14: =IF('Hjælpeskema 1 & 2'!E27>0,C14*G14*Soltimer!D28," ") | K14: =IF('Hjælpeskema 1 & 2'!E27>0,C14*G14*Soltimer!E28," ") | L14: =IF('Hjælpeskema 1 & 2'!E27>0,C14*G14*Soltimer!F28," ") | M14: =IF('Hjælpeskema 1 & 2'!E27>0,C14*G14*Soltimer!G28," ") | N14: =IF('Hjælpeskema 1 & 2'!E27>0,C14*G14*Soltimer!H28," ") | O14: =IF('Hjælpeskema 1 & 2'!E27>0,C14*G14*Soltimer!I28," ") | P14: =IF('Hjælpeskema 1 & 2'!E28>0,C14*G14*Soltimer!J28," ") | Q14: =SUM(H14:P14) -> 0
A15: =Soltimer!K29 -> 0 | B15: 6 | C15: ='Hjælpeskema 1 & 2'!I28 | G15: =D15*E15*F15 -> 0 | H15: =IF('Hjælpeskema 1 & 2'!E28>0,C15*G15*Soltimer!B29," ") | I15: =IF('Hjælpeskema 1 & 2'!E28>0,C15*G15*Soltimer!C29," ") | J15: =IF('Hjælpeskema 1 & 2'!E28>0,C15*G15*Soltimer!D29," ") | K15: =IF('Hjælpeskema 1 & 2'!E28>0,C15*G15*Soltimer!E29," ") | L15: =IF('Hjælpeskema 1 & 2'!E28>0,C15*G15*Soltimer!F29," ") | M15: =IF('Hjælpeskema 1 & 2'!E28>0,C15*G15*Soltimer!G29," ") | N15: =IF('Hjælpeskema 1 & 2'!E28>0,C15*G15*Soltimer!H29," ") | O15: =IF('Hjælpeskema 1 & 2'!E28>0,C15*G15*Soltimer!I29," ") | P15: =IF('Hjælpeskema 1 & 2'!E29>0,C15*G15*Soltimer!J29," ") | Q15: =SUM(H15:P15) -> 0
A16: =Soltimer!K30 -> 0 | B16: 7 | C16: ='Hjælpeskema 1 & 2'!I29 | G16: =D16*E16*F16 -> 0 | H16: =IF('Hjælpeskema 1 & 2'!E29>0,C16*G16*Soltimer!B30," ") | I16: =IF('Hjælpeskema 1 & 2'!E29>0,C16*G16*Soltimer!C30," ") | J16: =IF('Hjælpeskema 1 & 2'!E29>0,C16*G16*Soltimer!D30," ") | K16: =IF('Hjælpeskema 1 & 2'!E29>0,C16*G16*Soltimer!E30," ") | L16: =IF('Hjælpeskema 1 & 2'!E29>0,C16*G16*Soltimer!F30," ") | M16: =IF('Hjælpeskema 1 & 2'!E29>0,C16*G16*Soltimer!G30," ") | N16: =IF('Hjælpeskema 1 & 2'!E29>0,C16*G16*Soltimer!H30," ") | O16: =IF('Hjælpeskema 1 & 2'!E29>0,C16*G16*Soltimer!I30," ") | P16: =IF('Hjælpeskema 1 & 2'!E30>0,C16*G16*Soltimer!J30," ") | Q16: =SUM(H16:P16) -> 0
A17: =Soltimer!K31 -> 0 | B17: 8 | C17: ='Hjælpeskema 1 & 2'!I30 | G17: =D17*E17*F17 -> 0 | H17: =IF('Hjælpeskema 1 & 2'!E30>0,C17*G17*Soltimer!B31," ") | I17: =IF('Hjælpeskema 1 & 2'!E30>0,C17*G17*Soltimer!C31," ") | J17: =IF('Hjælpeskema 1 & 2'!E30>0,C17*G17*Soltimer!D31," ") | K17: =IF('Hjælpeskema 1 & 2'!E30>0,C17*G17*Soltimer!E31," ") | L17: =IF('Hjælpeskema 1 & 2'!E30>0,C17*G17*Soltimer!F31," ") | M17: =IF('Hjælpeskema 1 & 2'!E30>0,C17*G17*Soltimer!G31," ") | N17: =IF('Hjælpeskema 1 & 2'!E30>0,C17*G17*Soltimer!H31," ") | O17: =IF('Hjælpeskema 1 & 2'!E30>0,C17*G17*Soltimer!I31," ") | P17: =IF('Hjælpeskema 1 & 2'!E31>0,C17*G17*Soltimer!J31," ") | Q17: =SUM(H17:P17) -> 0
A18: =Soltimer!K32 -> 0 | B18: 9 | C18: ='Hjælpeskema 1 & 2'!I31 | G18: =D18*E18*F18 -> 0 | H18: =IF('Hjælpeskema 1 & 2'!E31>0,C18*G18*Soltimer!B32," ") | I18: =IF('Hjælpeskema 1 & 2'!E31>0,C18*G18*Soltimer!C32," ") | J18: =IF('Hjælpeskema 1 & 2'!E31>0,C18*G18*Soltimer!D32," ") | K18: =IF('Hjælpeskema 1 & 2'!E31>0,C18*G18*Soltimer!E32," ") | L18: =IF('Hjælpeskema 1 & 2'!E31>0,C18*G18*Soltimer!F32," ") | M18: =IF('Hjælpeskema 1 & 2'!E31>0,C18*G18*Soltimer!G32," ") | N18: =IF('Hjælpeskema 1 & 2'!E31>0,C18*G18*Soltimer!H32," ") | O18: =IF('Hjælpeskema 1 & 2'!E31>0,C18*G18*Soltimer!I32," ") | P18: =IF('Hjælpeskema 1 & 2'!E32>0,C18*G18*Soltimer!J32," ") | Q18: =SUM(H18:P18) -> 0
A19: =Soltimer!K33 -> 0 | B19: 10 | C19: ='Hjælpeskema 1 & 2'!I32 | G19: =D19*E19*F19 -> 0 | H19: =IF('Hjælpeskema 1 & 2'!E32>0,C19*G19*Soltimer!B33," ") | I19: =IF('Hjælpeskema 1 & 2'!E32>0,C19*G19*Soltimer!C33," ") | J19: =IF('Hjælpeskema 1 & 2'!E32>0,C19*G19*Soltimer!D33," ") | K19: =IF('Hjælpeskema 1 & 2'!E32>0,C19*G19*Soltimer!E33," ") | L19: =IF('Hjælpeskema 1 & 2'!E32>0,C19*G19*Soltimer!F33," ") | M19: =IF('Hjælpeskema 1 & 2'!E32>0,C19*G19*Soltimer!G33," ") | N19: =IF('Hjælpeskema 1 & 2'!E32>0,C19*G19*Soltimer!H33," ") | O19: =IF('Hjælpeskema 1 & 2'!E32>0,C19*G19*Soltimer!I33," ") | P19: =IF('Hjælpeskema 1 & 2'!E33>0,C19*G19*Soltimer!J33," ") | Q19: =SUM(H19:P19) -> 0
A20: =Soltimer!K34 -> 0 | B20: 11 | C20: ='Hjælpeskema 1 & 2'!I33 | G20: =D20*E20*F20 -> 0 | H20: =IF('Hjælpeskema 1 & 2'!E33>0,C20*G20*Soltimer!B34," ") | I20: =IF('Hjælpeskema 1 & 2'!E33>0,C20*G20*Soltimer!C34," ") | J20: =IF('Hjælpeskema 1 & 2'!E33>0,C20*G20*Soltimer!D34," ") | K20: =IF('Hjælpeskema 1 & 2'!E33>0,C20*G20*Soltimer!E34," ") | L20: =IF('Hjælpeskema 1 & 2'!E33>0,C20*G20*Soltimer!F34," ") | M20: =IF('Hjælpeskema 1 & 2'!E33>0,C20*G20*Soltimer!G34," ") | N20: =IF('Hjælpeskema 1 & 2'!E33>0,C20*G20*Soltimer!H34," ") | O20: =IF('Hjælpeskema 1 & 2'!E33>0,C20*G20*Soltimer!I34," ") | P20: =IF('Hjælpeskema 1 & 2'!E34>0,C20*G20*Soltimer!J34," ") | Q20: =SUM(H20:P20) -> 0
A21: =Soltimer!K35 -> 0 | B21: 12 | C21: ='Hjælpeskema 1 & 2'!I34 | G21: =D21*E21*F21 -> 0 | H21: =IF('Hjælpeskema 1 & 2'!E34>0,C21*G21*Soltimer!B35," ") | I21: =IF('Hjælpeskema 1 & 2'!E34>0,C21*G21*Soltimer!C35," ") | J21: =IF('Hjælpeskema 1 & 2'!E34>0,C21*G21*Soltimer!D35," ") | K21: =IF('Hjælpeskema 1 & 2'!E34>0,C21*G21*Soltimer!E35," ") | L21: =IF('Hjælpeskema 1 & 2'!E34>0,C21*G21*Soltimer!F35," ") | M21: =IF('Hjælpeskema 1 & 2'!E34>0,C21*G21*Soltimer!G35," ") | N21: =IF('Hjælpeskema 1 & 2'!E34>0,C21*G21*Soltimer!H35," ") | O21: =IF('Hjælpeskema 1 & 2'!E34>0,C21*G21*Soltimer!I35," ") | P21: =IF('Hjælpeskema 1 & 2'!E35>0,C21*G21*Soltimer!J35," ") | Q21: =SUM(H21:P21) -> 0
... A25: =Soltimer!K39 -> 0 | B25: 16 | C25: ='Hjælpeskema 1 & 2'!I38 | G25: =D25*E25*F25 -> 0 | H25: =IF('Hjælpeskema 1 & 2'!E38>0,C25*G25*Soltimer!B39," ") | I25: =IF('Hjælpeskema 1 & 2'!E38>0,C25*G25*Soltimer!C39," ") | J25: =IF('Hjælpeskema 1 & 2'!E38>0,C25*G25*Soltimer!D39," ") | K25: =IF('Hjælpeskema 1 & 2'!E38>0,C25*G25*Soltimer!E39," ") | L25: =IF('Hjælpeskema 1 & 2'!E38>0,C25*G25*Soltimer!F39," ") | M25: =IF('Hjælpeskema 1 & 2'!E38>0,C25*G25*Soltimer!G39," ") | N25: =IF('Hjælpeskema 1 & 2'!E38>0,C25*G25*Soltimer!H39," ") | O25: =IF('Hjælpeskema 1 & 2'!E38>0,C25*G25*Soltimer!I39," ") | P25: =IF('Hjælpeskema 1 & 2'!E39>0,C25*G25*Soltimer!J39," ") | Q25: =SUM(H25:P25) -> 0
H26: =SUM(H10:H23) -> 0 | I26: =SUM(I10:I23) -> 0 | J26: =SUM(J10:J23) -> 0 | K26: =SUM(K10:K23) -> 0 | L26: =SUM(L10:L23) -> 0 | M26: =SUM(M10:M23) -> 0 | N26: =SUM(N10:N23) -> 0 | O26: =SUM(O10:O23) -> 0 | P26: =SUM(P10:P23) -> 0 | R26: =SUM(H26:Q26) -> 0
P27: =SUM(H26:P26) -> 0

Sheet Alternativ energi
A3: Varmeproduktion fra solfanger
A4: solfangerareal | D4: m2
A5: årlig energiproduktion (varme) | B5: * | D5: kWh/m2 | F5: * | G5: kun varmt brugsvand | H5: både varmt brugsvand og rumvarme
A6: årligt energiforbrug til drift (el) | B6: * | D6: kWh/m2 | G6: 520 kWh/m2 | H6: 390 kWh/m2
A7: afvigelse fra syd | D7: º | G7: 30 kWh/m2 | H7: 23 kWh/m2
A8: hældning fra vandret | D8: º
A9: ydelsesfaktor (orientering og hældning) | B9: ** | F9: ** | G9: aflæs ydelsesfaktor i vejledning til energirammen eller på
A10: årlig energibesparelse (varme) | C10: =(C4*C5)*C9/100 -> 0 | D10: kWh | G10: www.byggeriogenergi.dk
A11: årligt merforbrug (el) | C11: =C4*C6*C9/100 -> 0 | D11: kWh
A17: Varmeproduktion fra varmepumpe
A18: dimensionerende varmetab | C18: =('Alternativ energi'!G68+Hovedskema!F18*32+Hovedskema!F19*32)/1000 -> 0 | D18: kW
A19: optimal længde af varmeslanger | C19: =C18*30 -> 0 | D19: m
A20: reel længde af varmeslanger | B20: * | D20: m | F20: * | G20: 30 meter jordvarmeslange pr. kW dimensionerende varmetab
A21: areal | B21: ** | C21: =C20*1.25 -> 0 | D21: m2 | F21: ** | G21: afstand mellem slanger 1,25 m
A22: nyttevirkning
A23: årlig energibesparelse (varme) | C23: =(C20/C19)*Hovedskema!J45/3.6 -> #DIV/0! | D23: kWh
A24: årligt merforbrug (el) | C24: =C23/C22 -> #DIV/0! | D24: kWh | H24: Her er vi nød til at forholde os til tabeller
