Workbook

Sheet Inddatering 230 Volt
B1: Kortlægning af energiforbrug på arbejdspladsen
A2: 230 Volt | B2: Forbruger el. maskine | C2: Tid brugt pr. dag [minutter] | D2: Antal i brug i virksomhed | E2: Ampere målt | F2: Effekt under drift [W] | G2: Energi forbrug pr. år kWh | H2: Energi forbrug pr. dag kWh
F3: =E3*230*0.6 -> 0 | G3: =(((C3/60)*220)*D3*F3)/1000 -> 0 | H3: =G3/220 -> 0
F4: =E4*230*0.6 -> 0 | G4: =(((C4/60)*220)*D4*F4)/1000 -> 0 | H4: =G4/220 -> 0
F5: =E5*230*0.6 -> 0 | G5: =(((C5/60)*220)*D5*F5)/1000 -> 0 | H5: =G5/220 -> 0
F6: =E6*230*0.6 -> 0 | G6: =(((C6/60)*220)*D6*F6)/1000 -> 0 | H6: =G6/220 -> 0
F7: =E7*230*0.6 -> 0 | G7: =(((C7/60)*220)*D7*F7)/1000 -> 0 | H7: =G7/220 -> 0
F8: =E8*230*0.6 -> 0 | G8: =(((C8/60)*220)*D8*F8)/1000 -> 0 | H8: =G8/220 -> 0
F9: =E9*230*0.6 -> 0 | G9: =(((C9/60)*220)*D9*F9)/1000 -> 0 | H9: =G9/220 -> 0
F10: =E10*230*0.6 -> 0 | G10: =(((C10/60)*220)*D10*F10)/1000 -> 0 | H10: =G10/220 -> 0
F11: =E11*230*0.6 -> 0 | G11: =(((C11/60)*220)*D11*F11)/1000 -> 0 | H11: =G11/220 -> 0
F12: =E12*230*0.6 -> 0 | G12: =(((C12/60)*220)*D12*F12)/1000 -> 0 | H12: =G12/220 -> 0
F13: =E13*230*0.6 -> 0 | G13: =(((C13/60)*220)*D13*F13)/1000 -> 0 | H13: =G13/220 -> 0
F14: =E14*230*0.6 -> 0 | G14: =(((C14/60)*220)*D14*F14)/1000 -> 0 | H14: =G14/220 -> 0
F15: =E15*230*0.6 -> 0 | G15: =(((C15/60)*220)*D15*F15)/1000 -> 0 | H15: =G15/220 -> 0
C21: Time(r) | D21: Minutter
B22: Omregn timer til minutter: | C22: 1 | D22: =C22*60 -> 60

Sheet Inddatering 400 Volt
B1: Kortlægning af energiforbrug på arbejdspladsen
A2: 400 Volt | B2: Forbruger el. maskine | C2: Tid brugt pr. dag [minutter] | D2: Antal i brug i virksomhed | E2: Ampere målt (i én fase) | F2: Effekt under drift [W] | G2: Energi forbrug pr. år kWh | H2: Energi forbrug pr. dag kWh
F3: =(SQRT(3)*400*E3*3)/0.6 -> 0 | G3: =(((C3/60)*220)*D3*F3)/1000 -> 0 | H3: =G3/220 -> 0
F4: =(SQRT(3)*400*E4*3)/0.6 -> 0 | G4: =(((C4/60)*220)*D4*F4)/1000 -> 0 | H4: =G4/220 -> 0
F5: =(SQRT(3)*400*E5*3)/0.6 -> 0 | G5: =(((C5/60)*220)*D5*F5)/1000 -> 0 | H5: =G5/220 -> 0
F6: =(SQRT(3)*400*E6*3)/0.6 -> 0 | G6: =(((C6/60)*220)*D6*F6)/1000 -> 0 | H6: =G6/220 -> 0
F7: =(SQRT(3)*400*E7*3)/0.6 -> 0 | G7: =(((C7/60)*220)*D7*F7)/1000 -> 0 | H7: =G7/220 -> 0
F8: =(SQRT(3)*400*E8*3)/0.6 -> 0 | G8: =(((C8/60)*220)*D8*F8)/1000 -> 0 | H8: =G8/220 -> 0
F9: =(SQRT(3)*400*E9*3)/0.6 -> 0 | G9: =(((C9/60)*220)*D9*F9)/1000 -> 0 | H9: =G9/220 -> 0
F10: =(SQRT(3)*400*E10*3)/0.6 -> 0 | G10: =(((C10/60)*220)*D10*F10)/1000 -> 0 | H10: =G10/220 -> 0
F11: =(SQRT(3)*400*E11*3)/0.6 -> 0 | G11: =(((C11/60)*220)*D11*F11)/1000 -> 0 | H11: =G11/220 -> 0
F12: =(SQRT(3)*400*E12*3)/0.6 -> 0 | G12: =(((C12/60)*220)*D12*F12)/1000 -> 0 | H12: =G12/220 -> 0
F13: =(SQRT(3)*400*E13*3)/0.6 -> 0 | G13: =(((C13/60)*220)*D13*F13)/1000 -> 0 | H13: =G13/220 -> 0
C21: Time(r) | D21: Minutter
B22: Omregn timer til minutter: | C22: 1 | D22: =C22*60 -> 60

Sheet Analyse af forbrug
B2: ='Inddatering 230 Volt'!B2 -> Forbruger el. maskine | C2: ='Inddatering 230 Volt'!C2 -> Tid brugt pr. dag [minutter] | D2: ='Inddatering 230 Volt'!D2 -> Antal i brug i virksomhed | E2: ='Inddatering 230 Volt'!E2 -> Ampere målt | F2: ='Inddatering 230 Volt'!F2 -> Effekt under drift [W] | G2: ='Inddatering 230 Volt'!G2 -> Energi forbrug pr. år kWh | I2: Forbruger el. maskine | J2: Sum of Energi forbrug pr. år kWh
B3: ='Inddatering 230 Volt'!B3 -> 0 | C3: ='Inddatering 230 Volt'!C3 -> 0 | D3: ='Inddatering 230 Volt'!D3 -> 0 | E3: ='Inddatering 230 Volt'!E3 -> 0 | F3: ='Inddatering 230 Volt'!F3 -> 0 | G3: ='Inddatering 230 Volt'!G3 -> 0 | I3: 0 | J3: 0
B4: ='Inddatering 230 Volt'!B4 -> 0 | C4: ='Inddatering 230 Volt'!C4 -> 0 | D4: ='Inddatering 230 Volt'!D4 -> 0 | E4: ='Inddatering 230 Volt'!E4 -> 0 | F4: ='Inddatering 230 Volt'!F4 -> 0 | G4: ='Inddatering 230 Volt'!G4 -> 0 | I4: Grand Total | J4: 0
B5: ='Inddatering 230 Volt'!B5 -> 0 | C5: ='Inddatering 230 Volt'!C5 -> 0 | D5: ='Inddatering 230 Volt'!D5 -> 0 | E5: ='Inddatering 230 Volt'!E5 -> 0 | F5: ='Inddatering 230 Volt'!F5 -> 0 | G5: ='Inddatering 230 Volt'!G5 -> 0
B6: ='Inddatering 230 Volt'!B6 -> 0 | C6: ='Inddatering 230 Volt'!C6 -> 0 | D6: ='Inddatering 230 Volt'!D6 -> 0 | E6: ='Inddatering 230 Volt'!E6 -> 0 | F6: ='Inddatering 230 Volt'!F6 -> 0 | G6: ='Inddatering 230 Volt'!G6 -> 0
B7: ='Inddatering 230 Volt'!B7 -> 0 | C7: ='Inddatering 230 Volt'!C7 -> 0 | D7: ='Inddatering 230 Volt'!D7 -> 0 | E7: ='Inddatering 230 Volt'!E7 -> 0 | F7: ='Inddatering 230 Volt'!F7 -> 0 | G7: ='Inddatering 230 Volt'!G7 -> 0
B8: ='Inddatering 230 Volt'!B8 -> 0 | C8: ='Inddatering 230 Volt'!C8 -> 0 | D8: ='Inddatering 230 Volt'!D8 -> 0 | E8: ='Inddatering 230 Volt'!E8 -> 0 | F8: ='Inddatering 230 Volt'!F8 -> 0 | G8: ='Inddatering 230 Volt'!G8 -> 0
B9: ='Inddatering 230 Volt'!B9 -> 0 | C9: ='Inddatering 230 Volt'!C9 -> 0 | D9: ='Inddatering 230 Volt'!D9 -> 0 | E9: ='Inddatering 230 Volt'!E9 -> 0 | F9: ='Inddatering 230 Volt'!F9 -> 0 | G9: ='Inddatering 230 Volt'!G9 -> 0
B10: ='Inddatering 230 Volt'!B10 -> 0 | C10: ='Inddatering 230 Volt'!C10 -> 0 | D10: ='Inddatering 230 Volt'!D10 -> 0 | E10: ='Inddatering 230 Volt'!E10 -> 0 | F10: ='Inddatering 230 Volt'!F10 -> 0 | G10: ='Inddatering 230 Volt'!G10 -> 0
B11: ='Inddatering 230 Volt'!B11 -> 0 | C11: ='Inddatering 230 Volt'!C11 -> 0 | D11: ='Inddatering 230 Volt'!D11 -> 0 | E11: ='Inddatering 230 Volt'!E11 -> 0 | F11: ='Inddatering 230 Volt'!F11 -> 0 | G11: ='Inddatering 230 Volt'!G11 -> 0
B12: ='Inddatering 230 Volt'!B12 -> 0 | C12: ='Inddatering 230 Volt'!C12 -> 0 | D12: ='Inddatering 230 Volt'!D12 -> 0 | E12: ='Inddatering 230 Volt'!E12 -> 0 | F12: ='Inddatering 230 Volt'!F12 -> 0 | G12: ='Inddatering 230 Volt'!G12 -> 0
B13: ='Inddatering 230 Volt'!B13 -> 0 | C13: ='Inddatering 230 Volt'!C13 -> 0 | D13: ='Inddatering 230 Volt'!D13 -> 0 | E13: ='Inddatering 230 Volt'!E13 -> 0 | F13: ='Inddatering 230 Volt'!F13 -> 0 | G13: ='Inddatering 230 Volt'!G13 -> 0
B14: ='Inddatering 230 Volt'!B14 -> 0 | C14: ='Inddatering 230 Volt'!C14 -> 0 | D14: ='Inddatering 230 Volt'!D14 -> 0 | E14: ='Inddatering 230 Volt'!E14 -> 0 | F14: ='Inddatering 230 Volt'!F14 -> 0 | G14: ='Inddatering 230 Volt'!G14 -> 0
B15: ='Inddatering 230 Volt'!B15 -> 0 | C15: ='Inddatering 230 Volt'!C15 -> 0 | D15: ='Inddatering 230 Volt'!D15 -> 0 | E15: ='Inddatering 230 Volt'!E15 -> 0 | F15: ='Inddatering 230 Volt'!F15 -> 0 | G15: ='Inddatering 230 Volt'!G15 -> 0
B16: ='Inddatering 400 Volt'!B3 -> 0 | C16: ='Inddatering 400 Volt'!C3 -> 0 | D16: ='Inddatering 400 Volt'!D3 -> 0 | E16: ='Inddatering 400 Volt'!E3 -> 0 | F16: ='Inddatering 400 Volt'!F3 -> 0 | G16: ='Inddatering 400 Volt'!G3 -> 0
B17: ='Inddatering 400 Volt'!B4 -> 0 | C17: ='Inddatering 400 Volt'!C4 -> 0 | D17: ='Inddatering 400 Volt'!D4 -> 0 | E17: ='Inddatering 400 Volt'!E4 -> 0 | F17: ='Inddatering 400 Volt'!F4 -> 0 | G17: ='Inddatering 400 Volt'!G4 -> 0
B18: ='Inddatering 400 Volt'!B5 -> 0 | C18: ='Inddatering 400 Volt'!C5 -> 0 | D18: ='Inddatering 400 Volt'!D5 -> 0 | E18: ='Inddatering 400 Volt'!E5 -> 0 | F18: ='Inddatering 400 Volt'!F5 -> 0 | G18: ='Inddatering 400 Volt'!G5 -> 0
B19: ='Inddatering 400 Volt'!B6 -> 0 | C19: ='Inddatering 400 Volt'!C6 -> 0 | D19: ='Inddatering 400 Volt'!D6 -> 0 | E19: ='Inddatering 400 Volt'!E6 -> 0 | F19: ='Inddatering 400 Volt'!F6 -> 0 | G19: ='Inddatering 400 Volt'!G6 -> 0
B20: ='Inddatering 400 Volt'!B7 -> 0 | C20: ='Inddatering 400 Volt'!C7 -> 0 | D20: ='Inddatering 400 Volt'!D7 -> 0 | E20: ='Inddatering 400 Volt'!E7 -> 0 | F20: ='Inddatering 400 Volt'!F7 -> 0 | G20: ='Inddatering 400 Volt'!G7 -> 0
B21: ='Inddatering 400 Volt'!B8 -> 0 | C21: ='Inddatering 400 Volt'!C8 -> 0 | D21: ='Inddatering 400 Volt'!D8 -> 0 | E21: ='Inddatering 400 Volt'!E8 -> 0 | F21: ='Inddatering 400 Volt'!F8 -> 0 | G21: ='Inddatering 400 Volt'!G8 -> 0
B22: ='Inddatering 400 Volt'!B9 -> 0 | C22: ='Inddatering 400 Volt'!C9 -> 0 | D22: ='Inddatering 400 Volt'!D9 -> 0 | E22: ='Inddatering 400 Volt'!E9 -> 0 | F22: ='Inddatering 400 Volt'!F9 -> 0 | G22: ='Inddatering 400 Volt'!G9 -> 0
B23: ='Inddatering 400 Volt'!B10 -> 0 | C23: ='Inddatering 400 Volt'!C10 -> 0 | D23: ='Inddatering 400 Volt'!D10 -> 0 | E23: ='Inddatering 400 Volt'!E10 -> 0 | F23: ='Inddatering 400 Volt'!F10 -> 0 | G23: ='Inddatering 400 Volt'!G10 -> 0
B24: ='Inddatering 400 Volt'!B11 -> 0 | C24: ='Inddatering 400 Volt'!C11 -> 0 | D24: ='Inddatering 400 Volt'!D11 -> 0 | E24: ='Inddatering 400 Volt'!E11 -> 0 | F24: ='Inddatering 400 Volt'!F11 -> 0 | G24: ='Inddatering 400 Volt'!G11 -> 0
B25: ='Inddatering 400 Volt'!B12 -> 0 | C25: ='Inddatering 400 Volt'!C12 -> 0 | D25: ='Inddatering 400 Volt'!D12 -> 0 | E25: ='Inddatering 400 Volt'!E12 -> 0 | F25: ='Inddatering 400 Volt'!F12 -> 0 | G25: ='Inddatering 400 Volt'!G12 -> 0
B26: ='Inddatering 400 Volt'!B13 -> 0 | C26: ='Inddatering 400 Volt'!C13 -> 0 | D26: ='Inddatering 400 Volt'!D13 -> 0 | E26: ='Inddatering 400 Volt'!E13 -> 0 | F26: ='Inddatering 400 Volt'!F13 -> 0 | G26: ='Inddatering 400 Volt'!G13 -> 0
